BEGIN:VCALENDAR
VERSION:2.0
PRODID:-//River Raisin National Battlefield Park Foundation - ECPv6.15.17//NONSGML v1.0//EN
CALSCALE:GREGORIAN
METHOD:PUBLISH
X-ORIGINAL-URL:https://thebattlefield.org
X-WR-CALDESC:Events for River Raisin National Battlefield Park Foundation
REFRESH-INTERVAL;VALUE=DURATION:PT1H
X-Robots-Tag:noindex
X-PUBLISHED-TTL:PT1H
BEGIN:VTIMEZONE
TZID:America/Detroit
BEGIN:DAYLIGHT
TZOFFSETFROM:-0500
TZOFFSETTO:-0400
TZNAME:EDT
DTSTART:20240310T070000
END:DAYLIGHT
BEGIN:STANDARD
TZOFFSETFROM:-0400
TZOFFSETTO:-0500
TZNAME:EST
DTSTART:20241103T060000
END:STANDARD
BEGIN:DAYLIGHT
TZOFFSETFROM:-0500
TZOFFSETTO:-0400
TZNAME:EDT
DTSTART:20250309T070000
END:DAYLIGHT
BEGIN:STANDARD
TZOFFSETFROM:-0400
TZOFFSETTO:-0500
TZNAME:EST
DTSTART:20251102T060000
END:STANDARD
BEGIN:DAYLIGHT
TZOFFSETFROM:-0500
TZOFFSETTO:-0400
TZNAME:EDT
DTSTART:20260308T070000
END:DAYLIGHT
BEGIN:STANDARD
TZOFFSETFROM:-0400
TZOFFSETTO:-0500
TZNAME:EST
DTSTART:20261101T060000
END:STANDARD
END:VTIMEZONE
BEGIN:VEVENT
DTSTART;VALUE=DATE:20250621
DTEND;VALUE=DATE:20250721
DTSTAMP:20260421T083329
CREATED:20250106T184110Z
LAST-MODIFIED:20250617T134657Z
UID:1797-1750464000-1753055999@thebattlefield.org
SUMMARY:"Great Lakes Past and Present" 6th Annual Art Exhibition & Sales
DESCRIPTION:Great Lakes Past and Present 6th annual Art Exhibition\n6th Annual Art Exhibition \nJune 21-July 20\, 2025 \nDaily\, 9am-5pm (Free) \nduring Visitor Center Hours \nat the River Raisin National Battlefield Park \nStroll thru a gallery exhibition of Great Lakes Past and Present works of art at the Visitor Center of the River Raisin National Battlefield Park. Artwork will be available for sale during the exhibition curated by Darlene Belair\, Brandy Gerber\, and Becky Mullins. \nGRAND OPENING GALA TICKET INFORMATION \nFor more information contact: (734) 243-7136 or info@battlefieldfoundation.org
URL:https://thebattlefield.org/event/great-lakes-past-and-present-6th-annual-art-exhibition/
LOCATION:River Raisin National Battlefield Park Visitor Center\, 333 North Dixie Highway\, Monroe\, MI\, 48162\, United States
END:VEVENT
BEGIN:VEVENT
DTSTART;TZID=America/Detroit:20250727T150000
DTEND;TZID=America/Detroit:20250727T160000
DTSTAMP:20260421T083329
CREATED:20250624T182001Z
LAST-MODIFIED:20250723T014752Z
UID:1952-1753628400-1753632000@thebattlefield.org
SUMMARY:Americana Band Concert
DESCRIPTION:  \n \nAMERICANA BAND CONCERT\nJuly 27\, 2025\n3:00 PM\nVisitor Center\nRiver Raisin National Battlefield Park\nGet ready for an afternoon of delightful music! The River Raisin National Battlefield Park Foundation is thrilled to announce a special Americana Band Concert featuring the talented Summer Band\, a group of musicians affiliated with the Monroe County Community College band. \nJoin us to experience American history and culture through a diverse musical journey\, including: \n\nRagtime\nWorld War I themes\nBig Band classics\nLively Dixieland\nIconic Hollywood themes\nPopular Pop tunes\n\nEvent Details: \n\nDate: SUNDAY\, July 27\, 2025\nTime: 3:00 PM\nLocation: Visitor Center\, River Raisin National Battlefield Park 333 N. Dixie Hwy. Monroe\, MI 48162\nAdmission: FREE!\n\nThis is a fantastic opportunity to enjoy great music in a historic setting. We encourage you to bring your family and friends for this wonderful community event. \nFor more information\, please visit our website at www.thebattlefield.org or call us at (734) 241-7136. \nWe look forward to seeing you there! \n  \n 
URL:https://thebattlefield.org/event/americana-band-concert/
LOCATION:River Raisin National Battlefield Park Visitor Center\, 333 North Dixie Highway\, Monroe\, MI\, 48162\, United States
ORGANIZER;CN="River Raisin National Battlefield Park Foundation":MAILTO:info@battlefieldfoundation.org
END:VEVENT
END:VCALENDAR