BEGIN:VCALENDAR
VERSION:2.0
PRODID:-//River Raisin National Battlefield Park Foundation - ECPv6.15.17//NONSGML v1.0//EN
CALSCALE:GREGORIAN
METHOD:PUBLISH
X-ORIGINAL-URL:https://thebattlefield.org
X-WR-CALDESC:Events for River Raisin National Battlefield Park Foundation
REFRESH-INTERVAL;VALUE=DURATION:PT1H
X-Robots-Tag:noindex
X-PUBLISHED-TTL:PT1H
BEGIN:VTIMEZONE
TZID:America/Detroit
BEGIN:DAYLIGHT
TZOFFSETFROM:-0500
TZOFFSETTO:-0400
TZNAME:EDT
DTSTART:20240310T070000
END:DAYLIGHT
BEGIN:STANDARD
TZOFFSETFROM:-0400
TZOFFSETTO:-0500
TZNAME:EST
DTSTART:20241103T060000
END:STANDARD
BEGIN:DAYLIGHT
TZOFFSETFROM:-0500
TZOFFSETTO:-0400
TZNAME:EDT
DTSTART:20250309T070000
END:DAYLIGHT
BEGIN:STANDARD
TZOFFSETFROM:-0400
TZOFFSETTO:-0500
TZNAME:EST
DTSTART:20251102T060000
END:STANDARD
BEGIN:DAYLIGHT
TZOFFSETFROM:-0500
TZOFFSETTO:-0400
TZNAME:EDT
DTSTART:20260308T070000
END:DAYLIGHT
BEGIN:STANDARD
TZOFFSETFROM:-0400
TZOFFSETTO:-0500
TZNAME:EST
DTSTART:20261101T060000
END:STANDARD
END:VTIMEZONE
BEGIN:VEVENT
DTSTART;TZID=America/Detroit:20250620T170000
DTEND;TZID=America/Detroit:20250620T203000
DTSTAMP:20260421T103430
CREATED:20250106T181636Z
LAST-MODIFIED:20250610T001817Z
UID:1790-1750438800-1750451400@thebattlefield.org
SUMMARY:Grand Opening Gala: Education Center Preview\, Donor Recognition Dinner\, and Great Lakes Art Exhibition Opening
DESCRIPTION:The River Raisin National Battlefield Park Foundation \ninvites you to \nGrand Opening Gala\nFriday\, June 20th\, 2025\n5:00pm  – 8:30pm\nRiver Raisin Education Center Grand Opening Preview\, \nDonor Recognition\, \nGreat Lakes Past & Present Art Exhibition Opening\, \nDinner and Fundraiser \nRiver Raisin Education Center presented by La-Z-Boy  Foundation  \nOpening to the Public for the 15th Anniversary of the \nRiver Raisin National Battlefield Park \nSpecial Guests: The Honorable Chief Glenna Wallace Eastern Shawnee Tribe of Oklahoma and the Honorable Chief Billy Friend of the Wyandotte Nation \nSpecial Donor Recognition Wall Unveiling \nTICKETS \nGet your advanced tickets now online or at the Visitor Center\, tickets will not be sold at the door. \nTicket includes admission to Grand Opening Gala\, dinner\, and one complimentary beverage. \nIndividual (1) One Advanced Ticket: $50.00  or \nCouples (2) Two Advanced Tickets: $90.00     (1 purchase per transaction) \n \nCLICK HERE TO PURCHASE TICKETS NOW \n  \nFUNDRAISERS DURING GRAND OPENING GALA: \n \n-Great Lakes Themed Painted Rocks Auction by Local Artists \n-Silent Auction \n\nTEN Different WPA Style National Park Posters Signed and Numbered by artist Robert Decker \nMichigan Beer Pack donated by Molly Coy\nSTIHL Battery Powered Pressure Washer donated by Leckler’s\n\n-50/50 Raffle \n-Cash Bar \nHelp us raise funds to support Grand Opening activities made FREE to the public\, artwork program\, and Foundation operations \nTicket includes admission to Grand Opening Gala\, dinner\, and one complimentary beverage. \nCLICK HERE TO PURCHASE TICKETS NOW \nFundraising proceeds will directly support artwork\, educational programming and Foundation operations. \n  \nVENUE: \nVisitor Center \nRiver Raisin National Battlefield Park \n333 N. Dixie Hwy\, Monroe\, MI 48162 \nFor more information contact: (734) 243-7136 or info@battlefieldfoundation.org \nJune 20-22\, 2025 Grand Opening Events online at: www.thebattlefield.org \nCall Foundation for more information: (734) 243-7136 \n  \nMAJOR  SPONSORS\n \nDTE Energy Foundation     Energy Foundation\n\nLa-Z-Boy   \n\n\nPARK PARTNERS SPONSORS \nAllen Chevrolet Cadillac of Monroe    \n  \nWilliam H. Braunlich and Michael R. Meyer\nDoug and Diane Chaffin\nConsumers Energy       \nITC Holdings Corp. \nProMedica \n  \nSUPPORTERS SPONSORS \nAl’s Cabinet Shop   \nThe Honorable Robert E. & Valerie Clark\nFluid Equipment Development Co. \nKC Logistics \nDon & Lorna Lieto\nMichigan Gas Utilities     \nMCCU \n  \nMonroe Superstore    \n  \nNational Parks Conservation Association    \n  \nRotary Club  \n\nSieb Plumbing     Sieb Plumbing & Heating – In Memory of Richard A. Sieb\nUA Local 671 Monroe    \nWyandot of Anderdon      \n  \nFRIENDS  SPONSORS \nMolly & Todd Coy\nDRC Cleaning Solutions    \nKeith Masserant\nMid-American Group    \n \nRick & Susan Vanisacker\n  \nCLICK HERE TO PURCHASE TICKETS NOW \nVisitor Center \nRiver Raisin National Battlefield Park \n333 N. Dixie Hwy\, Monroe\, MI 48162 \nFor more information contact: (734) 243-7136 or info@battlefieldfoundation.org \n \n \n  \n 
URL:https://thebattlefield.org/event/great-lakes-past-and-present-themed-6th-annual-art-gala-exhibition/
LOCATION:River Raisin National Battlefield Park Visitor Center\, 333 North Dixie Highway\, Monroe\, MI\, 48162\, United States
END:VEVENT
BEGIN:VEVENT
DTSTART;VALUE=DATE:20250621
DTEND;VALUE=DATE:20250721
DTSTAMP:20260421T103430
CREATED:20250106T184110Z
LAST-MODIFIED:20250617T134657Z
UID:1797-1750464000-1753055999@thebattlefield.org
SUMMARY:"Great Lakes Past and Present" 6th Annual Art Exhibition & Sales
DESCRIPTION:Great Lakes Past and Present 6th annual Art Exhibition\n6th Annual Art Exhibition \nJune 21-July 20\, 2025 \nDaily\, 9am-5pm (Free) \nduring Visitor Center Hours \nat the River Raisin National Battlefield Park \nStroll thru a gallery exhibition of Great Lakes Past and Present works of art at the Visitor Center of the River Raisin National Battlefield Park. Artwork will be available for sale during the exhibition curated by Darlene Belair\, Brandy Gerber\, and Becky Mullins. \nGRAND OPENING GALA TICKET INFORMATION \nFor more information contact: (734) 243-7136 or info@battlefieldfoundation.org
URL:https://thebattlefield.org/event/great-lakes-past-and-present-6th-annual-art-exhibition/
LOCATION:River Raisin National Battlefield Park Visitor Center\, 333 North Dixie Highway\, Monroe\, MI\, 48162\, United States
END:VEVENT
BEGIN:VEVENT
DTSTART;TZID=America/Detroit:20250621T090000
DTEND;TZID=America/Detroit:20250621T170000
DTSTAMP:20260421T103430
CREATED:20250409T201805Z
LAST-MODIFIED:20250610T003927Z
UID:1856-1750496400-1750525200@thebattlefield.org
SUMMARY:Rally on the Raisin Military Living History Timeline
DESCRIPTION:Join us for the Rally on the Raisin June 21-22\, 2025!\n\nNow Recruiting Living History Troops!\nParticipants for the Rally on the Raisin Living History Timeline should contact Ranger Joseph Dowd at Joseph_Dowd@nps.gov or call (734) 243-7136 \n  \n  \nEvent held in conjunction with the River Raisin Education Center Grand Opening weekend of events June 20-22\, 2025.\nThank you to our generous sponsors:\nMAJOR  SPONSORS\n \nDTE Energy Foundation     Energy Foundation \n\nLa-Z-Boy   \n\n\n\nPARK PARTNERS SPONSORS \nAllen Chevrolet Cadillac of Monroe    \n  \nWilliam H. Braunlich and Michael R. Meyer\nDoug and Diane Chaffin\nConsumers Energy       \nITC Holdings Corp. \nProMedica \n  \nSUPPORTERS SPONSORS \nAl’s Cabinet Shop    \nThe Honorable Robert E. & Valerie Clark\nFluid Equipment Development Co.\nKC Logistics \nDon & Lorna Lieto\nMichigan Gas Utilities     \nMCCU \n  \nMonroe Superstore    \n  \nNational Parks Conservation Association    \n  \nRotary Club  \n\nSieb Plumbing     Sieb Plumbing & Heating – In Memory of Richard A. Sieb\nUA Local 671 Monroe    \nWyandot of Anderdon      \n  \nFRIENDS  SPONSORS \nMolly & Todd Coy\nDRC Cleaning Solutions    \nKeith Masserant\nMid-American Group    \n \nRick & Susan Vanisacker\n 
URL:https://thebattlefield.org/event/rally-on-the-raisin-military-living-history-timeline/
LOCATION:River Raisin National Battlefield Park Visitor Center\, 333 North Dixie Highway\, Monroe\, MI\, 48162\, United States
END:VEVENT
BEGIN:VEVENT
DTSTART;TZID=America/Detroit:20250621T100000
DTEND;TZID=America/Detroit:20250621T120000
DTSTAMP:20260421T103430
CREATED:20250106T182449Z
LAST-MODIFIED:20250617T134806Z
UID:1792-1750500000-1750507200@thebattlefield.org
SUMMARY:River Raisin Education Center Grand Opening Ceremony and Ribbon Cutting
DESCRIPTION:The River Raisin National Battlefield Park Foundation cordially invites you to the \nGrand Opening Ceremony\nfor the River Raisin Education Center presented by La-Z-Boy Foundation \non the 15th Anniversary of the River Raisin National Battlefield Park \nwith guest speakers the Mayor Robert E. Clark City of Monroe\, Honorable Chief Billy Friend of Wyandotte Nation\,  Consul General Colin Bird Consul General of Canada\, and Brigadier General Ravindran (Ravi) Wagh\, Assistant to the Adjutant General\, Michigan Army National Guard. \non Saturday\, June 21\, 2025\nat 10:00AM\nfollowed by a Ribbon Cutting at Noon \nheld on the grounds of the Visitor Center of the \nRiver Raisin National Battlefield Park\, 333 N. Dixie Hwy.\, Monroe\, Michigan \n  \n \nThank you to our generous sponsors: \nMAJOR  SPONSORS\n \nDTE Energy Foundation     Energy Foundation \n\nLa-Z-Boy   \n\n\nPARK PARTNERS SPONSORS \nAllen Chevrolet Cadillac of Monroe    \n  \nWilliam H. Braunlich and Michael R. Meyer\nDoug and Diane Chaffin\nConsumers Energy       \nITC Holdings Corp. \nProMedica \n  \nSUPPORTERS SPONSORS \nAl’s Cabinet Shop    \nThe Honorable Robert E. & Valerie Clark\nFluid Equipment Development Co.\nKC Logistics \nDon & Lorna Lieto\nMichigan Gas Utilities     \nMCCU \n  \nMonroe Superstore    \n  \nNational Parks Conservation Association    \n  \nRotary Club  \n\nSieb Plumbing     Sieb Plumbing & Heating – In Memory of Richard A. Sieb\nUA Local 671 Monroe    \nWyandot of Anderdon      \n  \nFRIENDS  SPONSORS \nMolly & Todd Coy\nDRC Cleaning Solutions    \nKeith Masserant\nMid-American Group    \n \nRick & Susan Vanisacker\n  \n  \n  \n  \n  \n  \n  \n  \n  \n  \n  \n  \n  \n  \n  \n  \n  \n  \n  \n  \n  \n  \n  \n  \n  \nFor more information: (734) 243-7136 ext. 171 or info@battlefieldfoundation.org \n   
URL:https://thebattlefield.org/event/grand-opening-of-education-center/
LOCATION:River Raisin National Battlefield Park Visitor Center\, 333 North Dixie Highway\, Monroe\, MI\, 48162\, United States
ORGANIZER;CN="River Raisin National Battlefield Park Foundation":MAILTO:info@battlefieldfoundation.org
END:VEVENT
BEGIN:VEVENT
DTSTART;TZID=America/Detroit:20250621T133000
DTEND;TZID=America/Detroit:20250621T160000
DTSTAMP:20260421T103430
CREATED:20250610T004914Z
LAST-MODIFIED:20250612T224650Z
UID:1934-1750512600-1750521600@thebattlefield.org
SUMMARY:126th Army Band\, Michigan Army National Guard\, Jazz Duet with Saxophone and Piano
DESCRIPTION:We welcome the 126th Army Band\, Michigan Army National Guard\,  Jazz Duet on Saxophone and Piano\nperforming on Saturday\, June 21\, 2025 in two sessions:\n1:30-2:15PM\n3:00-3:45PM\nDon’t miss the wonderful jazz sounds from the fantastic duet from the 126th Army Band! \nVisitor Center Grounds \nRiver Raisin National Battlefield Park \n \n333 N. Dixie Hwy.\, Monroe\, Michigan \n(734) 243-7136 \ninfo@battlefieldfoundation.org \nRALLY ON THE RAISIN SPONSORS:\nBanas Lumber & Hardware \nCooley Video Services \nMichigan National Guard \n  \n  \n  \n  \nEvent held in conjunction with the River Raisin Education Center Grand Opening weekend of events June 20-22\, 2025.\nThank you to our generous sponsors:\nMAJOR  SPONSORS\n \nDTE Energy Foundation     Energy Foundation \n\nLa-Z-Boy   \n\n\n\nPARK PARTNERS SPONSORS \nAllen Chevrolet Cadillac of Monroe    \n  \nWilliam H. Braunlich and Michael R. Meyer\nDoug and Diane Chaffin\nConsumers Energy       \nITC Holdings Corp. \nProMedica \n  \nSUPPORTERS SPONSORS \nAl’s Cabinet Shop    \nThe Honorable Robert E. & Valerie Clark\nFluid Equipment Development Co.\nKC Logistics \nDon & Lorna Lieto\nMichigan Gas Utilities     \nMCCU \n  \nMonroe Superstore    \n  \nNational Parks Conservation Association    \n  \nRotary Club  \n\nSieb Plumbing     Sieb Plumbing & Heating – In Memory of Richard A. Sieb\nUA Local 671 Monroe    \nWyandot of Anderdon      \n  \nFRIENDS  SPONSORS \nMolly & Todd Coy\nDRC Cleaning Solutions    \nKeith Masserant\nMid-American Group    \n \nRick & Susan Vanisacker\n 
URL:https://thebattlefield.org/event/126th-u-s-army-band-jazz-duet-saxophone-and-piano/
LOCATION:River Raisin National Battlefield Park Visitor Center\, 333 North Dixie Highway\, Monroe\, MI\, 48162\, United States
END:VEVENT
BEGIN:VEVENT
DTSTART;TZID=America/Detroit:20250622T090000
DTEND;TZID=America/Detroit:20250622T140000
DTSTAMP:20260421T103430
CREATED:20250610T003233Z
LAST-MODIFIED:20250610T003846Z
UID:1932-1750582800-1750600800@thebattlefield.org
SUMMARY:Rally on the Raisin Military Living History Event
DESCRIPTION:Join us for the Rally on the Raisin June 21-22\, 2025!\n\nNow Recruiting Living History Troops!\nParticipants for the Rally on the Raisin Living History Timeline should contact Ranger Joseph Dowd at Joseph_Dowd@nps.gov or call (734) 243-7136 \n  \nEvent held in conjunction with the River Raisin Education Center Grand Opening weekend of events June 20-22\, 2025.\nThank you to our generous sponsors:\nMAJOR  SPONSORS\n \nDTE Energy Foundation     Energy Foundation \n\nLa-Z-Boy   \n\n\n\nPARK PARTNERS SPONSORS \nAllen Chevrolet Cadillac of Monroe    \n  \nWilliam H. Braunlich and Michael R. Meyer\nDoug and Diane Chaffin\nConsumers Energy       \nITC Holdings Corp. \nProMedica \n  \nSUPPORTERS SPONSORS \nAl’s Cabinet Shop    \nThe Honorable Robert E. & Valerie Clark\nFluid Equipment Development Co.\nKC Logistics \nDon & Lorna Lieto\nMichigan Gas Utilities     \nMCCU \n  \nMonroe Superstore    \n  \nNational Parks Conservation Association    \n  \nRotary Club  \n\nSieb Plumbing     Sieb Plumbing & Heating – In Memory of Richard A. Sieb\nUA Local 671 Monroe    \nWyandot of Anderdon      \n  \nFRIENDS  SPONSORS \nMolly & Todd Coy\nDRC Cleaning Solutions    \nKeith Masserant\nMid-American Group    \n \nRick & Susan Vanisacker\n 
URL:https://thebattlefield.org/event/rally-on-the-raisin-military-living-history-event/
LOCATION:River Raisin National Battlefield Park Visitor Center\, 333 North Dixie Highway\, Monroe\, MI\, 48162\, United States
END:VEVENT
BEGIN:VEVENT
DTSTART;TZID=America/Detroit:20250622T140000
DTEND;TZID=America/Detroit:20250622T150000
DTSTAMP:20260421T103430
CREATED:20250514T032801Z
LAST-MODIFIED:20250610T005756Z
UID:1890-1750600800-1750604400@thebattlefield.org
SUMMARY:“La Compagnie Musical Dance Troupe® Returns to the River Raisin National Battlefield.”
DESCRIPTION: “La Compagnie Musical Dance Troupe® Returns to the River Raisin National Battlefield.” \npresented by River Raisin National Battlefield Park Foundation \nSunday\, June 22\, 2025: 2:00pm \n La Compagnie Musical Dance Troupe® has been performing traditional music\, dance and stories of the Great Lakes region since 2007\, with a multi-instrumental repertoire that spans over 400 years.  The multi-instrumental ensemble returns to the River Raisin National Battlefield Park to give the audience a sampling of  “joie de vivre” from our early French beginnings. Toe-tapping reels and jigs\, hearty Great Lakes sea shanties with rousing choruses\, touching ballads and lively dance demonstrations are all part of the fun. So “bring yer dancin’ shoes” if you are so inclined\, or just sit back\, relax and enjoy the show! \nThis event is FREE and open to the public. \n“Music and lore of the lakes have long been a part of Michigan culture. Join us for a live performance of one of Michigan’s top-notch historical performing groups as they bring the authentic sounds of early Michigan music to the Lorenzo Center.” \nwww.lacompagniemdt.com \nLocation: \nVisitor Center \nRiver Raisin National Battlefield Park \n333 N. Dixie Hwy.\, Monroe\, MI 48162 \nFor more information call (734) 243-7136 \n \n\n  \nEvent is FREE and held in conjunction with the River Raisin Education Center Grand Opening weekend of events June 20-22\, 2025.\nThank you to our generous sponsors:\nMAJOR  SPONSORS\n \nDTE Energy Foundation     Energy Foundation \n\nLa-Z-Boy   \n\n\n\nPARK PARTNERS SPONSORS \nAllen Chevrolet Cadillac of Monroe    \n  \nWilliam H. Braunlich and Michael R. Meyer\nDoug and Diane Chaffin\nConsumers Energy       \nITC Holdings Corp. \nProMedica \n  \nSUPPORTERS SPONSORS \nAl’s Cabinet Shop    \nThe Honorable Robert E. & Valerie Clark\nFluid Equipment Development Co.\nKC Logistics \nDon & Lorna Lieto\nMichigan Gas Utilities     \nMCCU \n  \nMonroe Superstore    \n  \nNational Parks Conservation Association    \n  \nRotary Club  \n\nSieb Plumbing     Sieb Plumbing & Heating – In Memory of Richard A. Sieb\nUA Local 671 Monroe    \nWyandot of Anderdon      \n  \nFRIENDS  SPONSORS \nMolly & Todd Coy\nDRC Cleaning Solutions    \nKeith Masserant\nMid-American Group    \n \nRick & Susan Vanisacker\n 
URL:https://thebattlefield.org/event/la-compagnie-musical-dance-troupe-returns-to-the-river-raisin-national-battlefield/
LOCATION:River Raisin National Battlefield Park Visitor Center\, 333 North Dixie Highway\, Monroe\, MI\, 48162\, United States
ORGANIZER;CN="River Raisin National Battlefield Park Foundation":MAILTO:info@battlefieldfoundation.org
END:VEVENT
END:VCALENDAR