BEGIN:VCALENDAR
VERSION:2.0
PRODID:-//River Raisin National Battlefield Park Foundation - ECPv6.15.17//NONSGML v1.0//EN
CALSCALE:GREGORIAN
METHOD:PUBLISH
X-WR-CALNAME:River Raisin National Battlefield Park Foundation
X-ORIGINAL-URL:https://thebattlefield.org
X-WR-CALDESC:Events for River Raisin National Battlefield Park Foundation
REFRESH-INTERVAL;VALUE=DURATION:PT1H
X-Robots-Tag:noindex
X-PUBLISHED-TTL:PT1H
BEGIN:VTIMEZONE
TZID:America/Detroit
BEGIN:DAYLIGHT
TZOFFSETFROM:-0500
TZOFFSETTO:-0400
TZNAME:EDT
DTSTART:20240310T070000
END:DAYLIGHT
BEGIN:STANDARD
TZOFFSETFROM:-0400
TZOFFSETTO:-0500
TZNAME:EST
DTSTART:20241103T060000
END:STANDARD
BEGIN:DAYLIGHT
TZOFFSETFROM:-0500
TZOFFSETTO:-0400
TZNAME:EDT
DTSTART:20250309T070000
END:DAYLIGHT
BEGIN:STANDARD
TZOFFSETFROM:-0400
TZOFFSETTO:-0500
TZNAME:EST
DTSTART:20251102T060000
END:STANDARD
BEGIN:DAYLIGHT
TZOFFSETFROM:-0500
TZOFFSETTO:-0400
TZNAME:EDT
DTSTART:20260308T070000
END:DAYLIGHT
BEGIN:STANDARD
TZOFFSETFROM:-0400
TZOFFSETTO:-0500
TZNAME:EST
DTSTART:20261101T060000
END:STANDARD
END:VTIMEZONE
BEGIN:VEVENT
DTSTART;TZID=America/Detroit:20250507T170000
DTEND;TZID=America/Detroit:20250507T193000
DTSTAMP:20260421T123041
CREATED:20250507T224309Z
LAST-MODIFIED:20250507T224309Z
UID:1875-1746637200-1746646200@thebattlefield.org
SUMMARY:Event Center: Young Entrepreneur Showcase
DESCRIPTION:Generation E Showcase \nWednesday\, May 7\, 2025 \n5:00-7:30pm \n  \nCo-Hosts: Monroe Public Schools and Generation E Institute \nEvent Center \nInside the Visitor Center of the \nRiver Raisin National Battlefield Park \n333 N. Dixie Hwy. \nMonroe\, MI 48162 \n  \n 
URL:https://thebattlefield.org/event/event-center-young-entrepreneur-showcase/
LOCATION:River Raisin National Battlefield Park Visitor Center\, 333 North Dixie Highway\, Monroe\, MI\, 48162\, United States
END:VEVENT
BEGIN:VEVENT
DTSTART;TZID=America/Detroit:20250516T170000
DTEND;TZID=America/Detroit:20250516T193000
DTSTAMP:20260421T123041
CREATED:20250410T000251Z
LAST-MODIFIED:20250410T000344Z
UID:1867-1747414800-1747423800@thebattlefield.org
SUMMARY:31st Michigan Model-A Roundup
DESCRIPTION:Michigan Model-A Roundup\n  \nHosted by Floral City Model-A Region\, Monroe\, Michigan \n“Come and See” the 1928-1931 Model-A Fords \nLocation: \nVisitor Center Parking Lot \nRiver Raisin National Battlefield Park \n333 N. Dixie Hwy. \nMonroe\, MI 48162
URL:https://thebattlefield.org/event/31st-michigan-model-a-roundup/
LOCATION:River Raisin National Battlefield Park Visitor Center\, 333 North Dixie Highway\, Monroe\, MI\, 48162\, United States
ORGANIZER;CN="Floral City Model-A Region - Monroe%2C Michigan":MAILTO:tentmaker@charter.net
END:VEVENT
BEGIN:VEVENT
DTSTART;VALUE=DATE:20250524
DTEND;VALUE=DATE:20250527
DTSTAMP:20260421T123041
CREATED:20250519T213710Z
LAST-MODIFIED:20250519T231409Z
UID:1892-1748044800-1748303999@thebattlefield.org
SUMMARY:AmVets Post 1942 Fallen of Monroe County Display
DESCRIPTION:  \nOn May 24-26\, 2025 the Corl-Gaynier AmVets Post 1942 of Monroe\, Michigan will erect 800 tombstones to represent the Fallen of Monroe County on the Visitor Center grounds at the River Raisin National Battlefield Park. The display will take place on Memorial Day weekend to remember and honor Monroe County’s fallen.
URL:https://thebattlefield.org/event/amvets-post-1942-fallen-of-monroe-county-display/
LOCATION:River Raisin National Battlefield Park Visitor Center\, 333 North Dixie Highway\, Monroe\, MI\, 48162\, United States
END:VEVENT
BEGIN:VEVENT
DTSTART;VALUE=DATE:20250524
DTEND;VALUE=DATE:20250527
DTSTAMP:20260421T123041
CREATED:20250519T215229Z
LAST-MODIFIED:20250520T012446Z
UID:1895-1748044800-1748303999@thebattlefield.org
SUMMARY:Military Chaplain Display by Bob Heskett
DESCRIPTION:Mark your calendar to visit the River Raisin National Battlefield Park during Memorial Day weekend for displays indoors and out to remember and honor the fallen.  The exhibit inside the Visitor Center of the park will feature several Military Chaplain displays of altar fittings used on base or ships with uniforms. Collector Bob Heskett will be on hand to share the stories of the clergy who were experienced religious leaders dedicated to serving soldiers and their families. Visitor Center hours are 9am to 5pm\, daily. \nFor more information call (734) 243-7136.
URL:https://thebattlefield.org/event/military-chaplain-display-by-bob-heskett/
LOCATION:River Raisin National Battlefield Park Visitor Center\, 333 North Dixie Highway\, Monroe\, MI\, 48162\, United States
END:VEVENT
END:VCALENDAR