BEGIN:VCALENDAR
VERSION:2.0
PRODID:-//River Raisin National Battlefield Park Foundation - ECPv6.15.17//NONSGML v1.0//EN
CALSCALE:GREGORIAN
METHOD:PUBLISH
X-WR-CALNAME:River Raisin National Battlefield Park Foundation
X-ORIGINAL-URL:https://thebattlefield.org
X-WR-CALDESC:Events for River Raisin National Battlefield Park Foundation
REFRESH-INTERVAL;VALUE=DURATION:PT1H
X-Robots-Tag:noindex
X-PUBLISHED-TTL:PT1H
BEGIN:VTIMEZONE
TZID:America/Detroit
BEGIN:DAYLIGHT
TZOFFSETFROM:-0500
TZOFFSETTO:-0400
TZNAME:EDT
DTSTART:20240310T070000
END:DAYLIGHT
BEGIN:STANDARD
TZOFFSETFROM:-0400
TZOFFSETTO:-0500
TZNAME:EST
DTSTART:20241103T060000
END:STANDARD
BEGIN:DAYLIGHT
TZOFFSETFROM:-0500
TZOFFSETTO:-0400
TZNAME:EDT
DTSTART:20250309T070000
END:DAYLIGHT
BEGIN:STANDARD
TZOFFSETFROM:-0400
TZOFFSETTO:-0500
TZNAME:EST
DTSTART:20251102T060000
END:STANDARD
BEGIN:DAYLIGHT
TZOFFSETFROM:-0500
TZOFFSETTO:-0400
TZNAME:EDT
DTSTART:20260308T070000
END:DAYLIGHT
BEGIN:STANDARD
TZOFFSETFROM:-0400
TZOFFSETTO:-0500
TZNAME:EST
DTSTART:20261101T060000
END:STANDARD
END:VTIMEZONE
BEGIN:VEVENT
DTSTART;TZID=America/Detroit:20250416T190000
DTEND;TZID=America/Detroit:20250416T200000
DTSTAMP:20260421T142243
CREATED:20250408T174547Z
LAST-MODIFIED:20250409T184730Z
UID:1827-1744830000-1744833600@thebattlefield.org
SUMMARY:Siege of Fort Meigs Program Speaker Series
DESCRIPTION:Siege of Fort Meigs presented by Ashley Phlipot \nJoin us as Ashley Phlipot\, executive director at Fort Meigs Historic Site\, presents Siege at For Meigs on Wednesday\, April 16\, 2025 at 7:00pm in the Visitor Center theater. This event is free and open to the public. \n  \nLocation: \nVisitor Center \nRiver Raisin National Battlefield Park \n333 N. Dixie Hwy. \nMonroe\, MI 48162 \nFor more information call: (734) 243-7136
URL:https://thebattlefield.org/event/siege-of-fort-meigs-program-speaker-series/
LOCATION:River Raisin National Battlefield Park Visitor Center\, 333 North Dixie Highway\, Monroe\, MI\, 48162\, United States
END:VEVENT
BEGIN:VEVENT
DTSTART;TZID=America/Detroit:20250425T060000
DTEND;TZID=America/Detroit:20250425T200000
DTSTAMP:20260421T142243
CREATED:20250224T142303Z
LAST-MODIFIED:20250409T194844Z
UID:1814-1745560800-1745611200@thebattlefield.org
SUMMARY:Foundation Members Only Night
DESCRIPTION:SAVE THE DATE: April 25\, 2025\nMembers Only Night\nIt’s National Park’s Week April 19-27\, 2025! \nMembers Only nights are for River Raisin National Battlefield Park Foundation members and their guests.  Get the inside scoop on new developments\, door prizes\, snacks and fun activities among other perks\, like 10% off in the gift shop! \nPlease register: https://riverraisinfoundation.flipcause.com/secure/cause_pdetails/MjMwODE2 \nFor more information: (734) 243-7136 ext 171 or info@battlefieldfoundation.org
URL:https://thebattlefield.org/event/foundation-members-only-night-2/
LOCATION:River Raisin National Battlefield Park Visitor Center\, 333 North Dixie Highway\, Monroe\, MI\, 48162\, United States
ORGANIZER;CN="River Raisin National Battlefield Park Foundation":MAILTO:info@battlefieldfoundation.org
END:VEVENT
END:VCALENDAR