BEGIN:VCALENDAR
VERSION:2.0
PRODID:-//River Raisin National Battlefield Park Foundation - ECPv6.15.17//NONSGML v1.0//EN
CALSCALE:GREGORIAN
METHOD:PUBLISH
X-WR-CALNAME:River Raisin National Battlefield Park Foundation
X-ORIGINAL-URL:https://thebattlefield.org
X-WR-CALDESC:Events for River Raisin National Battlefield Park Foundation
REFRESH-INTERVAL;VALUE=DURATION:PT1H
X-Robots-Tag:noindex
X-PUBLISHED-TTL:PT1H
BEGIN:VTIMEZONE
TZID:America/Detroit
BEGIN:DAYLIGHT
TZOFFSETFROM:-0500
TZOFFSETTO:-0400
TZNAME:EDT
DTSTART:20240310T070000
END:DAYLIGHT
BEGIN:STANDARD
TZOFFSETFROM:-0400
TZOFFSETTO:-0500
TZNAME:EST
DTSTART:20241103T060000
END:STANDARD
BEGIN:DAYLIGHT
TZOFFSETFROM:-0500
TZOFFSETTO:-0400
TZNAME:EDT
DTSTART:20250309T070000
END:DAYLIGHT
BEGIN:STANDARD
TZOFFSETFROM:-0400
TZOFFSETTO:-0500
TZNAME:EST
DTSTART:20251102T060000
END:STANDARD
BEGIN:DAYLIGHT
TZOFFSETFROM:-0500
TZOFFSETTO:-0400
TZNAME:EDT
DTSTART:20260308T070000
END:DAYLIGHT
BEGIN:STANDARD
TZOFFSETFROM:-0400
TZOFFSETTO:-0500
TZNAME:EST
DTSTART:20261101T060000
END:STANDARD
END:VTIMEZONE
BEGIN:VEVENT
DTSTART;TZID=America/Detroit:20250207T180000
DTEND;TZID=America/Detroit:20250207T200000
DTSTAMP:20260421T175345
CREATED:20250106T180423Z
LAST-MODIFIED:20250106T180423Z
UID:1788-1738951200-1738958400@thebattlefield.org
SUMMARY:Cabin Fever Beach Party by City of Monroe Parks and Recreation
DESCRIPTION:Cabin Fever Beach Party hosted by the City of Monroe Parks & Recreation in partnership with the Great Start Collaborative. We are bringing some fun and sun to the cold month of February so pick out some summer or beach-y attire and join the party for music and dancing with DJ Big Mike of Totally Focused Entertainment Company\, along with kids games and activities by local organizations inside the River Raisin National Battlefield Park Visitor Center. \nRegistration link:  Cabin Fever Beach Party February 7\, 2025 \n 
URL:https://thebattlefield.org/event/cabin-fever-beach-party-by-city-of-monroe-parks-and-recreation/
LOCATION:River Raisin National Battlefield Park Visitor Center\, 333 North Dixie Highway\, Monroe\, MI\, 48162\, United States
END:VEVENT
BEGIN:VEVENT
DTSTART;TZID=America/Detroit:20250226T190000
DTEND;TZID=America/Detroit:20250226T200000
DTSTAMP:20260421T175345
CREATED:20250207T160044Z
LAST-MODIFIED:20250226T144445Z
UID:1805-1740596400-1740600000@thebattlefield.org
SUMMARY:CANCELLED Native American History Lecture Dr. Martin Hershock
DESCRIPTION:CANCELLATION NOTICE: \nWe are sorry to report Dr. Hershock has cancelled the lecture.  Please return to our event page to see future lectures. \n 
URL:https://thebattlefield.org/event/native-american-history-lecture-dr-martin-hershock/
LOCATION:River Raisin National Battlefield Park Visitor Center\, 333 North Dixie Highway\, Monroe\, MI\, 48162\, United States
END:VEVENT
END:VCALENDAR