BEGIN:VCALENDAR
VERSION:2.0
PRODID:-//River Raisin National Battlefield Park Foundation - ECPv6.15.17//NONSGML v1.0//EN
CALSCALE:GREGORIAN
METHOD:PUBLISH
X-ORIGINAL-URL:https://thebattlefield.org
X-WR-CALDESC:Events for River Raisin National Battlefield Park Foundation
REFRESH-INTERVAL;VALUE=DURATION:PT1H
X-Robots-Tag:noindex
X-PUBLISHED-TTL:PT1H
BEGIN:VTIMEZONE
TZID:America/Detroit
BEGIN:DAYLIGHT
TZOFFSETFROM:-0500
TZOFFSETTO:-0400
TZNAME:EDT
DTSTART:20230312T070000
END:DAYLIGHT
BEGIN:STANDARD
TZOFFSETFROM:-0400
TZOFFSETTO:-0500
TZNAME:EST
DTSTART:20231105T060000
END:STANDARD
BEGIN:DAYLIGHT
TZOFFSETFROM:-0500
TZOFFSETTO:-0400
TZNAME:EDT
DTSTART:20240310T070000
END:DAYLIGHT
BEGIN:STANDARD
TZOFFSETFROM:-0400
TZOFFSETTO:-0500
TZNAME:EST
DTSTART:20241103T060000
END:STANDARD
BEGIN:DAYLIGHT
TZOFFSETFROM:-0500
TZOFFSETTO:-0400
TZNAME:EDT
DTSTART:20250309T070000
END:DAYLIGHT
BEGIN:STANDARD
TZOFFSETFROM:-0400
TZOFFSETTO:-0500
TZNAME:EST
DTSTART:20251102T060000
END:STANDARD
END:VTIMEZONE
BEGIN:VEVENT
DTSTART;VALUE=DATE:20241206
DTEND;VALUE=DATE:20241217
DTSTAMP:20260421T220106
CREATED:20241129T191508Z
LAST-MODIFIED:20241129T192515Z
UID:1775-1733443200-1734393599@thebattlefield.org
SUMMARY:RiverBots III Signature Event VEX Robotics Dec 6-9 and 13-16\, 2024
DESCRIPTION:The Event Center at the Visitor Center of the River Raisin National Battlefield Park will host the 3rd Annual RiverBots 2024\, aVEX Robotics Signature Event\, on December 6-9\, 13-16\, 2024.  The public is invited to attend.  Signature Event schedule shown below. \n \nVEX IQ “Rapid Relay” Elementary School\nDecember 6-7\n\nVEX IQ  “Rapid Relay” Middle School\nDecember 8-9\n\nVEX V5 “High Stakes” High School\nDecember 13-14\n\nVEX U College\nDecember 14-15\n\nVEX V5 “High Stakes” Middle School\nDecember 15-16\nhttps://www.robotevents.com/robot-competitions   \nVolunteers welcomed\, login to robotevents.com to register.  Food Trucks open to the public during event dates. \nVenue: The Event Center in the Visitor Center – River Raisin National Battlefield Park\, 333 N. Dixie Hwy\, Monroe\, MI 48162. Park Visitor Center Hours: 9am-5pm\, daily.Parking in designated spaces in Visitor Center parking lot\, or overflow parking area on the corner of N. Dixie Hwy. and Noble Ave. \n 
URL:https://thebattlefield.org/event/riverbots-iii-signature-event-vex-robotics-dec-6-9-and-13-16-2024/
LOCATION:River Raisin National Battlefield Park Visitor Center\, 333 North Dixie Highway\, Monroe\, MI\, 48162\, United States
ORGANIZER;CN="3547 Virus VEX Robotics":MAILTO:il mmohn@monroeccc.edu
END:VEVENT
BEGIN:VEVENT
DTSTART;TZID=America/Detroit:20241207T130000
DTEND;TZID=America/Detroit:20241207T160000
DTSTAMP:20260421T220106
CREATED:20241129T183235Z
LAST-MODIFIED:20241129T190012Z
UID:1773-1733576400-1733587200@thebattlefield.org
SUMMARY:French Noel
DESCRIPTION:Friends of the River Raisin Battlefield present \n \nFrench Noel\nDecember 7\, 2024 – Saturday \n1pm to 4pm \nVisitor Center \nRiver Raisin National Battlefield Park \n333 N. Dixie Hwy\, Monroe\, MI 48162 \nCall (734) 243-7136 for more information.
URL:https://thebattlefield.org/event/french-noel-3/
LOCATION:River Raisin National Battlefield Park Visitor Center\, 333 North Dixie Highway\, Monroe\, MI\, 48162\, United States
END:VEVENT
END:VCALENDAR