BEGIN:VCALENDAR
VERSION:2.0
PRODID:-//River Raisin National Battlefield Park Foundation - ECPv6.15.17//NONSGML v1.0//EN
CALSCALE:GREGORIAN
METHOD:PUBLISH
X-WR-CALNAME:River Raisin National Battlefield Park Foundation
X-ORIGINAL-URL:https://thebattlefield.org
X-WR-CALDESC:Events for River Raisin National Battlefield Park Foundation
REFRESH-INTERVAL;VALUE=DURATION:PT1H
X-Robots-Tag:noindex
X-PUBLISHED-TTL:PT1H
BEGIN:VTIMEZONE
TZID:America/Detroit
BEGIN:DAYLIGHT
TZOFFSETFROM:-0500
TZOFFSETTO:-0400
TZNAME:EDT
DTSTART:20230312T070000
END:DAYLIGHT
BEGIN:STANDARD
TZOFFSETFROM:-0400
TZOFFSETTO:-0500
TZNAME:EST
DTSTART:20231105T060000
END:STANDARD
BEGIN:DAYLIGHT
TZOFFSETFROM:-0500
TZOFFSETTO:-0400
TZNAME:EDT
DTSTART:20240310T070000
END:DAYLIGHT
BEGIN:STANDARD
TZOFFSETFROM:-0400
TZOFFSETTO:-0500
TZNAME:EST
DTSTART:20241103T060000
END:STANDARD
BEGIN:DAYLIGHT
TZOFFSETFROM:-0500
TZOFFSETTO:-0400
TZNAME:EDT
DTSTART:20250309T070000
END:DAYLIGHT
BEGIN:STANDARD
TZOFFSETFROM:-0400
TZOFFSETTO:-0500
TZNAME:EST
DTSTART:20251102T060000
END:STANDARD
END:VTIMEZONE
BEGIN:VEVENT
DTSTART;TZID=America/Detroit:20241019T100000
DTEND;TZID=America/Detroit:20241019T160000
DTSTAMP:20260422T010531
CREATED:20240910T194650Z
LAST-MODIFIED:20240910T194836Z
UID:1747-1729332000-1729353600@thebattlefield.org
SUMMARY:Harvest on the Raisin
DESCRIPTION:The River Raisin National Battlefield Park will host the Friends of the River Raisin Battlefield’s annual Harvest on the Raisin event on Saturday\, October 19\, 2024\, from 10:00 a.m. until 4:00 p.m. \nJoin us as the habitants of Frenchtown celebrate the harvest and prepare for winter with historic foodways and trade demonstrations. This is a free outdoor event for the whole family. Programs include crafts\, tomahawk throwing\, blacksmithing and woodworking demonstrations\, period games and much more. For more details call (734) 243-7136 or visit: thebattlefield.org \nLocation: \nVisitor Center grounds of the River Raisin National Battlefield Park \n333 North Dixie Highway \nMonroe\, MI 48162 \nFor more information call: 734-243-7136 \n 
URL:https://thebattlefield.org/event/harvest-on-the-raisin-3/
LOCATION:River Raisin National Battlefield Park Visitor Center\, 333 North Dixie Highway\, Monroe\, MI\, 48162\, United States
END:VEVENT
END:VCALENDAR