BEGIN:VCALENDAR
VERSION:2.0
PRODID:-//River Raisin National Battlefield Park Foundation - ECPv6.15.17//NONSGML v1.0//EN
CALSCALE:GREGORIAN
METHOD:PUBLISH
X-WR-CALNAME:River Raisin National Battlefield Park Foundation
X-ORIGINAL-URL:https://thebattlefield.org
X-WR-CALDESC:Events for River Raisin National Battlefield Park Foundation
REFRESH-INTERVAL;VALUE=DURATION:PT1H
X-Robots-Tag:noindex
X-PUBLISHED-TTL:PT1H
BEGIN:VTIMEZONE
TZID:America/Detroit
BEGIN:DAYLIGHT
TZOFFSETFROM:-0500
TZOFFSETTO:-0400
TZNAME:EDT
DTSTART:20230312T070000
END:DAYLIGHT
BEGIN:STANDARD
TZOFFSETFROM:-0400
TZOFFSETTO:-0500
TZNAME:EST
DTSTART:20231105T060000
END:STANDARD
BEGIN:DAYLIGHT
TZOFFSETFROM:-0500
TZOFFSETTO:-0400
TZNAME:EDT
DTSTART:20240310T070000
END:DAYLIGHT
BEGIN:STANDARD
TZOFFSETFROM:-0400
TZOFFSETTO:-0500
TZNAME:EST
DTSTART:20241103T060000
END:STANDARD
BEGIN:DAYLIGHT
TZOFFSETFROM:-0500
TZOFFSETTO:-0400
TZNAME:EDT
DTSTART:20250309T070000
END:DAYLIGHT
BEGIN:STANDARD
TZOFFSETFROM:-0400
TZOFFSETTO:-0500
TZNAME:EST
DTSTART:20251102T060000
END:STANDARD
END:VTIMEZONE
BEGIN:VEVENT
DTSTART;TZID=America/Detroit:20240817T110000
DTEND;TZID=America/Detroit:20240817T160000
DTSTAMP:20260422T043442
CREATED:20240520T153514Z
LAST-MODIFIED:20240816T195415Z
UID:1707-1723892400-1723910400@thebattlefield.org
SUMMARY:CANCELLED LaCroix's Company of Michigan Territorial Militia Muster
DESCRIPTION:IMPORTANT SPECIAL EVENTS UPDATE!\nDue to extensive construction on the Visitor Center parking lot and surrounding grounds\, the following special events have been CANCELLED for the month of August:\n\n\nAugust 17th: LaCroix Company Living History\nAugust 24th: National Park Service History Day\n\n\nThe Visitor Center will remain open during parking lot construction. Please follow posted signs for temporary parking and visitor entrances. Alerts and construction updates can be found at https://ow.ly/vJwh50SY0GX\n\nLaCroix’s Company of Michigan Territorial Militia Muster:\nLiving History Encampment and Demonstrations\nAugust 17\, 2024\n11am-4pm\nLiving history encampment of the U.S. volunteers from Michigan Territory during the War of 1812. Musket and cannon firing demonstrations\, local French habitant food ways\, and camp life displays.  Presented by the LaCroix’s Company and Friends of the River Raisin Battlefield. See schedule below. \n \nSCHEDULE: \n11am         Camps Open \n4pm            Camps Close \n  \nAll demonstrations take place at field of Visitor Center at \nRiver Raisin National Battlefield Park \nVisitor Center: 333 N. Dixie Hwy.\, Monroe\, MI 48162 \nFor more information call: 734-243-7136
URL:https://thebattlefield.org/event/lacroixs-company-of-michigan-territorial-militia-muster-2/
LOCATION:River Raisin National Battlefield Park Visitor Center\, 333 North Dixie Highway\, Monroe\, MI\, 48162\, United States
END:VEVENT
BEGIN:VEVENT
DTSTART;TZID=America/Detroit:20240824T100000
DTEND;TZID=America/Detroit:20240824T160000
DTSTAMP:20260422T043442
CREATED:20240520T155204Z
LAST-MODIFIED:20240816T195526Z
UID:1708-1724493600-1724515200@thebattlefield.org
SUMMARY:CANCELLED National Park Service History Day
DESCRIPTION:IMPORTANT SPECIAL EVENTS UPDATE!\nDue to extensive construction on the Visitor Center parking lot and surrounding grounds\, the following special events have been CANCELLED for the month of August:\n\n\nAugust 17th: LaCroix Company Living History\nAugust 24th: National Park Service History Day\n\n\nThe Visitor Center will remain open during parking lot construction. Please follow posted signs for temporary parking and visitor entrances. Alerts and construction updates can be found at https://ow.ly/vJwh50SY0GX\n\nNational Park Service History Day\nAugust 24\, 2024\n10am-4pm\nCelebrating the 108th Anniversary of the National Park Service. Living history encampment of the Civilian Conversation Corp (CCC)\, Park Rangers through the ages\, NPS Trivia and special Junior Ranger Programs. \n \n  \nSCHEDULE: \n10am         Activities begin \n4pm           Activities end \n  \nEvent will take place at field of Visitor Center at \nRiver Raisin National Battlefield Park \nVisitor Center: 333 N. Dixie Hwy.\, Monroe\, MI 48162 \nFor more information call: 734-243-7136
URL:https://thebattlefield.org/event/national-park-service-history-day/
LOCATION:River Raisin National Battlefield Park Visitor Center\, 333 North Dixie Highway\, Monroe\, MI\, 48162\, United States
END:VEVENT
BEGIN:VEVENT
DTSTART;TZID=America/Detroit:20240825T170000
DTEND;TZID=America/Detroit:20240825T190000
DTSTAMP:20260422T043442
CREATED:20240705T175410Z
LAST-MODIFIED:20240806T153100Z
UID:1723-1724605200-1724612400@thebattlefield.org
SUMMARY:Member's Only Event: National Park Service Birthday
DESCRIPTION:River Raisin National Battlefield Park Foundation Member’s Only Event August 25\, 2024  5-7PM\nFoundation members are invited to celebrate the National Park Service Birthday at the Visitor Center. Light refreshments will be served\, games can be played\, and new films available to premier for our Members Only! Members are invited to bring a guest for prospective membership. \nNot a member\, get your membership online at www.thebattlefield.org or stop in the Gift Shop to purchase yours today! \nREGISTER HERE: https://www.flipcause.com/secure/cause_pdetails/MTg1NDI0
URL:https://thebattlefield.org/event/members-only-event-national-park-service-birthday/
LOCATION:River Raisin National Battlefield Park Visitor Center\, 333 North Dixie Highway\, Monroe\, MI\, 48162\, United States
ORGANIZER;CN="River Raisin National Battlefield Park Foundation":MAILTO:info@battlefieldfoundation.org
END:VEVENT
END:VCALENDAR