BEGIN:VCALENDAR
VERSION:2.0
PRODID:-//River Raisin National Battlefield Park Foundation - ECPv6.15.17//NONSGML v1.0//EN
CALSCALE:GREGORIAN
METHOD:PUBLISH
X-WR-CALNAME:River Raisin National Battlefield Park Foundation
X-ORIGINAL-URL:https://thebattlefield.org
X-WR-CALDESC:Events for River Raisin National Battlefield Park Foundation
REFRESH-INTERVAL;VALUE=DURATION:PT1H
X-Robots-Tag:noindex
X-PUBLISHED-TTL:PT1H
BEGIN:VTIMEZONE
TZID:America/Detroit
BEGIN:DAYLIGHT
TZOFFSETFROM:-0500
TZOFFSETTO:-0400
TZNAME:EDT
DTSTART:20230312T070000
END:DAYLIGHT
BEGIN:STANDARD
TZOFFSETFROM:-0400
TZOFFSETTO:-0500
TZNAME:EST
DTSTART:20231105T060000
END:STANDARD
BEGIN:DAYLIGHT
TZOFFSETFROM:-0500
TZOFFSETTO:-0400
TZNAME:EDT
DTSTART:20240310T070000
END:DAYLIGHT
BEGIN:STANDARD
TZOFFSETFROM:-0400
TZOFFSETTO:-0500
TZNAME:EST
DTSTART:20241103T060000
END:STANDARD
BEGIN:DAYLIGHT
TZOFFSETFROM:-0500
TZOFFSETTO:-0400
TZNAME:EDT
DTSTART:20250309T070000
END:DAYLIGHT
BEGIN:STANDARD
TZOFFSETFROM:-0400
TZOFFSETTO:-0500
TZNAME:EST
DTSTART:20251102T060000
END:STANDARD
END:VTIMEZONE
BEGIN:VEVENT
DTSTART;TZID=America/Detroit:20240713T090000
DTEND;TZID=America/Detroit:20240713T160000
DTSTAMP:20260422T062719
CREATED:20240520T153314Z
LAST-MODIFIED:20240705T151428Z
UID:1706-1720861200-1720886400@thebattlefield.org
SUMMARY:Summer of 1812 Encampment
DESCRIPTION:Summer of 1812: Living History Encampment and Demonstrations\nJuly 13\, 2024 \n9am-4pm\n \nRiver Raisin National Battlefield Park presents “Summer of 1812″\, a living history army encampment at River Raisin National Battlefield Park on Saturday\, July 13\, 2024\, from 9am until 4pm. \nThe American army is on the move. See history come alive as these early war volunteers are marching through Michigan Territory on their way to Detroit and an invasion of Canada in the Summer of 1812. See what soldier life was like as they complete all the necessary tasks of camp and learn to be effective fighters along with the local civilians who aided their advance during the first major campaign of the War of 1812.  \nWalk through the 1812 army encampment and see the variety of demonstrations\, including black powder firing\, period cooking\, fortification construction and more! \nCamps Open 9am-4pm\, civilians-in-camp programs\, military drills\, soldier work details throughout the day. *Note date change to July 13 only. \nFlintlock musket and rifle demonstrations at 11am\, 12pm\, and 2pm. \nLocation: \nVisitor Center grounds of the River Raisin National Battlefield Park \n333 North Dixie Highway \nMonroe\, MI 48162 \nFor more information call: 734-243-7136 \nHistory of the Spring Muster & Anniversary of Captain Herbert Lacroix’s Company of Michigan Volunteers \nAt the start of the War of 1812\, Michigan was defended by small garrisons of U.S. troops\, backed up by the 1st & 2nd Michigan Militia Regiments and the Legionary Corps of Michigan Volunteers.  These forces were soon joined by General Hull’s army of U.S. regulars and Ohio volunteers as they moved north through Michigan Territory on their way to Detroit and an Invasion of Canada. \nAt the River Raisin\, Hubert Lacroix was elected captain of an 80-man company.  Mustered into service on May 18\, 1812\, Lacroix’s Company became part of the Legionary Corps & was assigned to guard the settlement\, escort the mails\, and help build Hull’s Road to Detroit. Lacroix’s Company participated in General Hull’s opening campaign of the War of 1812\, guiding the army\, and participating in the Battles of Brownstown and Monguaga. \n 
URL:https://thebattlefield.org/event/summer-of-1812-encampment/
LOCATION:River Raisin National Battlefield Park Visitor Center\, 333 North Dixie Highway\, Monroe\, MI\, 48162\, United States
END:VEVENT
END:VCALENDAR