BEGIN:VCALENDAR
VERSION:2.0
PRODID:-//River Raisin National Battlefield Park Foundation - ECPv6.15.17//NONSGML v1.0//EN
CALSCALE:GREGORIAN
METHOD:PUBLISH
X-ORIGINAL-URL:https://thebattlefield.org
X-WR-CALDESC:Events for River Raisin National Battlefield Park Foundation
REFRESH-INTERVAL;VALUE=DURATION:PT1H
X-Robots-Tag:noindex
X-PUBLISHED-TTL:PT1H
BEGIN:VTIMEZONE
TZID:America/Detroit
BEGIN:DAYLIGHT
TZOFFSETFROM:-0500
TZOFFSETTO:-0400
TZNAME:EDT
DTSTART:20230312T070000
END:DAYLIGHT
BEGIN:STANDARD
TZOFFSETFROM:-0400
TZOFFSETTO:-0500
TZNAME:EST
DTSTART:20231105T060000
END:STANDARD
BEGIN:DAYLIGHT
TZOFFSETFROM:-0500
TZOFFSETTO:-0400
TZNAME:EDT
DTSTART:20240310T070000
END:DAYLIGHT
BEGIN:STANDARD
TZOFFSETFROM:-0400
TZOFFSETTO:-0500
TZNAME:EST
DTSTART:20241103T060000
END:STANDARD
BEGIN:DAYLIGHT
TZOFFSETFROM:-0500
TZOFFSETTO:-0400
TZNAME:EDT
DTSTART:20250309T070000
END:DAYLIGHT
BEGIN:STANDARD
TZOFFSETFROM:-0400
TZOFFSETTO:-0500
TZNAME:EST
DTSTART:20251102T060000
END:STANDARD
END:VTIMEZONE
BEGIN:VEVENT
DTSTART;TZID=America/Detroit:20240605T190000
DTEND;TZID=America/Detroit:20240605T203000
DTSTAMP:20260422T064106
CREATED:20240508T164007Z
LAST-MODIFIED:20240508T164007Z
UID:1700-1717614000-1717619400@thebattlefield.org
SUMMARY:Lecture: Evolution of firearms in the Old Northwest
DESCRIPTION:Lecture: Evolution of Firearms in the Old Northwest\nJune 5\n7:00-8:30pm\n  \nPresentation of the evolution of firearms used on the American frontier in the 18th and 19th Centuries by firearms historian Bruce Simmet. \n \nRiver Raisin National Battlefield Park \nVisitor Center: 333 N. Dixie Hwy.\, Monroe\, MI 48162 \nFor more information call: 734-243-7136
URL:https://thebattlefield.org/event/lecture-evolution-of-firearms-in-the-old-northwest/
LOCATION:River Raisin National Battlefield Park Visitor Center\, 333 North Dixie Highway\, Monroe\, MI\, 48162\, United States
END:VEVENT
BEGIN:VEVENT
DTSTART;TZID=America/Detroit:20240609T120000
DTEND;TZID=America/Detroit:20240609T170000
DTSTAMP:20260422T064106
CREATED:20240213T010321Z
LAST-MODIFIED:20240405T024216Z
UID:1643-1717934400-1717952400@thebattlefield.org
SUMMARY:Intro to Historic Leatherworking Workshop: 18th Century Wallet
DESCRIPTION:Discover craftsmanship with 18th- and 19th-century tools and techniques. Participants learn the fundamentals of historic traditional trades\, such as hornsmithing\, leatherworking\, sewing and fiber and woodworking. Each workshop will offer instruction and take home projects. \nClass Offerings: \nApril 27\, 2024  Introduction to Woodworking: 5 Board Bench | $50 per person \nJune 9\, 2024  Introduction to Leatherworking: 18th Century Wallet | $40 per person \nREGISTER HERE\nFor more information call (734) 243-7136 or email: info@battlefieldfoundation.org
URL:https://thebattlefield.org/event/intro-to-historic-leatherworking-workshop-18th-century-wallet/
LOCATION:River Raisin National Battlefield Park Visitor Center\, 333 North Dixie Highway\, Monroe\, MI\, 48162\, United States
ORGANIZER;CN="River Raisin National Battlefield Park Foundation":MAILTO:info@battlefieldfoundation.org
END:VEVENT
BEGIN:VEVENT
DTSTART;TZID=America/Detroit:20240622T110000
DTEND;TZID=America/Detroit:20240622T160000
DTSTAMP:20260422T064106
CREATED:20240520T153020Z
LAST-MODIFIED:20240621T205159Z
UID:1704-1719054000-1719072000@thebattlefield.org
SUMMARY:LaCroix's Company of Michigan Territorial Militia Muster - CANCELLED
DESCRIPTION:LaCroix’s Company of Michigan Territorial Militia Muster:\nLiving History Encampment and Demonstrations\nJune 22\, 2024\nEVENT CANCELLED DUE TO HEAT INDEX CONCERN AND SAFETY OF OUR VOLUNTEERS AND STAFF\nLiving history encampment of the U.S. volunteers from Michigan Territory during the War of 1812. Musket and cannon firing demonstrations\, local French habitant food ways\, and camp life displays.  Presented by the LaCroix’s Company and Friends of the River Raisin Battlefield. See schedule below. \n \nSCHEDULE: \nCANCELLED \nVisitor Center will be OPEN 10am to 5pm \nRiver Raisin National Battlefield Park \nVisitor Center: 333 N. Dixie Hwy.\, Monroe\, MI 48162 \nFor more information call: 734-243-7136
URL:https://thebattlefield.org/event/lacroixs-company-of-michigan-territorial-militia-muster/
LOCATION:River Raisin National Battlefield Park Visitor Center\, 333 North Dixie Highway\, Monroe\, MI\, 48162\, United States
END:VEVENT
END:VCALENDAR